Workbook

Sheet 探头及主机
A1: 飞利浦彩超维保清单（本表格须上传excle版本及盖章后扫描件）
A2: 序号 | B2: 设备名称 | C2: 主机型号 | D2: 主机序列号 | E2: 品牌 | F2: 探头数量 | G2: 探头型号 | H2: 探头序列号 | I2: 维保范围适用维保范围 | J2: 是否原厂维保（注明原厂或第三方） | K2: 自2023年1月1日以来类似本服务项目在全国综合医院排名前1-100的用户名单数量（本表格填写数量），须提供相关合同复印件作为佐证材料 | L2: 维保费用（万元/年）
A3: 1 | B3: 彩超 | C3: =VLOOKUP(D:D,[1]飞利浦系统探头信息!A:B,2,0) -> EPIQ 5 | D3: US716C0683 | E3: 飞利浦 | F3: 4 | G3: L12-5 | H3: F0PYYX
G4: C5-1 | H4: F078JX
G5: X7-2t | H5: B1JBXQ
G6: X7-2t | H6: F04DMJ
A7: 2 | C7: =VLOOKUP(D:D,[1]飞利浦系统探头信息!A:B,2,0) -> EPIQ CVx | D7: US423B1325 | F7: 4 | G7: S5-1 | H7: F0B84Q
G8: L12-3ERGO | H8: F0B1NT
G9: eL18-4 | H9: F08VTL
G10: C5-1 | H10: F0BC8C
A11: 3 | C11: =VLOOKUP(D:D,[1]飞利浦系统探头信息!A:B,2,0) -> EPIQ 5C | D11: US421C0441 | F11: 2 | G11: L12-3 | H11: F0FGWG
G12: S5-1 | H12: F01TYG
A13: 4 | C13: =VLOOKUP(D:D,[1]飞利浦系统探头信息!A:B,2,0) -> EPIQ 5C | D13: US421C0440 | F13: 2 | G13: S5-1 | H13: F01TTG
C14: =VLOOKUP(D:D,[1]飞利浦系统探头信息!A:B,2,0) -> #N/A | G14: L12-3 | H14: F0CJ3X
A15: 5 | C15: =VLOOKUP(D:D,[1]飞利浦系统探头信息!A:B,2,0) -> EPIQ 5 | D15: USN19C0231 | F15: 3 | G15: L12-5 | H15: F0FNV6
C16: =VLOOKUP(D:D,[1]飞利浦系统探头信息!A:B,2,0) -> #N/A | G16: C10-3V | H16: B3GNY6
C17: =VLOOKUP(D:D,[1]飞利浦系统探头信息!A:B,2,0) -> #N/A | G17: C5-1 | H17: F07RL5
A18: 6 | C18: =VLOOKUP(D:D,[1]飞利浦系统探头信息!A:B,2,0) -> EPIQ 5 | D18: USN19C0232 | F18: 2 | G18: C5-1 | H18: B3G3ZY
C19: =VLOOKUP(D:D,[1]飞利浦系统探头信息!A:B,2,0) -> #N/A | G19: L12-5 | H19: F05BW2
A20: 7 | C20: =VLOOKUP(D:D,[1]飞利浦系统探头信息!A:B,2,0) -> EPIQ 5 | D20: US421C0435 | F20: 3 | G20: L12-5 | H20: F01V20
C21: =VLOOKUP(D:D,[1]飞利浦系统探头信息!A:B,2,0) -> #N/A | G21: C5-1 | H21: F0Q3MF
C22: =VLOOKUP(D:D,[1]飞利浦系统探头信息!A:B,2,0) -> #N/A | G22: C10-3V | H22: F01V1C
A23: 8 | C23: =VLOOKUP(D:D,[1]飞利浦系统探头信息!A:B,2,0) -> Affiniti 50 | D23: USO19D0827 | F23: 2 | G23: C6-2 | H23: F0NGN1
C24: =VLOOKUP(D:D,[1]飞利浦系统探头信息!A:B,2,0) -> #N/A | G24: L12-5 50 | H24: B0BNC5
A25: 9 | C25: =VLOOKUP(D:D,[1]飞利浦系统探头信息!A:B,2,0) -> EPIQ 5 | D25: US421C0442 | F25: 2 | G25: C5-1 | H25: F0PGYK
C26: =VLOOKUP(D:D,[1]飞利浦系统探头信息!A:B,2,0) -> #N/A | G26: eL18-4 | H26: F0JNG9
A27: 10 | C27: =VLOOKUP(D:D,[1]飞利浦系统探头信息!A:B,2,0) -> EPIQ 5 | D27: USO18C0121 | F27: 2 | G27: L12-5 | H27: F07NM6
C28: =VLOOKUP(D:D,[1]飞利浦系统探头信息!A:B,2,0) -> #N/A | G28: C5-1 | H28: F055Y1
A29: 11 | C29: =VLOOKUP(D:D,[1]飞利浦系统探头信息!A:B,2,0) -> EPIQ 5 | D29: US716C0682 | F29: 3 | G29: L12-5 | H29: B40VT7
C30: =VLOOKUP(D:D,[1]飞利浦系统探头信息!A:B,2,0) -> #N/A | G30: C5-1 | H30: B2QGVY
C31: =VLOOKUP(D:D,[1]飞利浦系统探头信息!A:B,2,0) -> #N/A | G31: C10-3V | H31: F0HYVQ
A32: 12 | C32: =VLOOKUP(D:D,[1]飞利浦系统探头信息!A:B,2,0) -> Affiniti 50 | D32: USO19D0825 | F32: 2 | G32: L12-4 | H32: B3DVRC
C33: =VLOOKUP(D:D,[1]飞利浦系统探头信息!A:B,2,0) -> #N/A | G33: S4-2 | H33: B39QWN
A34: 13 | C34: =VLOOKUP(D:D,[1]飞利浦系统探头信息!A:B,2,0) -> Affiniti 70C | D34: SZO22F0435 | F34: 2 | G34: L12-3 | H34: F0763Z
C35: =VLOOKUP(D:D,[1]飞利浦系统探头信息!A:B,2,0) -> #N/A | G35: S5-1 | H35: F0KT1D
A36: 14 | C36: =VLOOKUP(D:D,[1]飞利浦系统探头信息!A:B,2,0) -> Affiniti 50 | D36: USO19D0826 | F36: 2 | G36: S4-2 | H36: B39RFL
C37: =VLOOKUP(D:D,[1]飞利浦系统探头信息!A:B,2,0) -> #N/A | G37: L12-4 | H37: B3DVYK
A38: 15 | C38: =VLOOKUP(D:D,[1]飞利浦系统探头信息!A:B,2,0) -> Affiniti 50 | D38: USO19D0938 | F38: 3 | G38: C6-2 | H38: F0QJMQ
C39: =VLOOKUP(D:D,[1]飞利浦系统探头信息!A:B,2,0) -> #N/A | G39: L12-5 | H39: F09L9H
C40: =VLOOKUP(D:D,[1]飞利浦系统探头信息!A:B,2,0) -> #N/A | G40: C10-3V | H40: B3G16Y
A41: 16 | C41: =VLOOKUP(D:D,[1]飞利浦系统探头信息!A:B,2,0) -> EPIQ 5 | D41: USO17C1683 | F41: 5 | G41: C5-1 | H41: B28N8X
C42: =VLOOKUP(D:D,[1]飞利浦系统探头信息!A:B,2,0) -> #N/A | G42: L12-5 50 | H42: B2H9NW
C43: =VLOOKUP(D:D,[1]飞利浦系统探头信息!A:B,2,0) -> #N/A | G43: S5-1 | H43: B286ZW
C44: =VLOOKUP(D:D,[1]飞利浦系统探头信息!A:B,2,0) -> #N/A | G44: X7-2t | H44: B3DRRR
C45: =VLOOKUP(D:D,[1]飞利浦系统探头信息!A:B,2,0) -> #N/A | G45: X8-2t | H45: F0FYQ1
A46: 17 | C46: =VLOOKUP(D:D,[1]飞利浦系统探头信息!A:B,2,0) -> EPIQ 5 | D46: USO18C0120 | F46: 5 | G46: S5-1 | H46: B2RMPJ
C47: =VLOOKUP(D:D,[1]飞利浦系统探头信息!A:B,2,0) -> #N/A | G47: S8-3 | H47: B3FPXZ
C48: =VLOOKUP(D:D,[1]飞利浦系统探头信息!A:B,2,0) -> #N/A | G48: C5-1 | H48: B24XDK
C49: =VLOOKUP(D:D,[1]飞利浦系统探头信息!A:B,2,0) -> #N/A | G49: L12-3 | H49: F0NWKK
C50: =VLOOKUP(D:D,[1]飞利浦系统探头信息!A:B,2,0) -> #N/A | G50: L12-5 50 | H50: B2WXTR
A51: 18 | C51: =VLOOKUP(D:D,[1]飞利浦系统探头信息!A:B,2,0) -> EPIQ 7C | D51: US716B0732 | F51: 8 | G51: X5-1 | H51: B1THXH
C52: =VLOOKUP(D:D,[1]飞利浦系统探头信息!A:B,2,0) -> #N/A | G52: S8-3 | H52: B1N0TN
C53: =VLOOKUP(D:D,[1]飞利浦系统探头信息!A:B,2,0) -> #N/A | G53: C5-1 | H53: B1QWKP
C54: =VLOOKUP(D:D,[1]飞利浦系统探头信息!A:B,2,0) -> #N/A | G54: L12-3 | H54: F0P54H
C55: =VLOOKUP(D:D,[1]飞利浦系统探头信息!A:B,2,0) -> #N/A | G55: S5-1 | H55: F0D329
C56: =VLOOKUP(D:D,[1]飞利浦系统探头信息!A:B,2,0) -> #N/A | G56: X8-2t | H56: F0CWTR
G57: X7-2t | H57: B2JJLN
G58: S7-3t | H58: B26G5Q
A59: 19 | C59: =VLOOKUP(D:D,[1]飞利浦系统探头信息!A:B,2,0) -> EPIQ 7C | D59: USN19B0256 | F59: 5 | G59: X5-1 | H59: B3FYOV
G60: S8-3 | H60: B35K8L
G61: C5-1 | H61: B3DQRX
G62: L12-3 | H62: F0JJ7X
G63: S5-1 | H63: F0NMB0
A64: 20 | C64: =VLOOKUP(D:D,[1]飞利浦系统探头信息!A:B,2,0) -> CX50 | D64: SGO1203533 | F64: 4 | G64: S5-1 | H64: B10JW6
G65: S8-3 | H65: B0XPVF
G66: L12-3 | H66: B1R0P6
G67: X7-2t | H67: F04DMJ
G68: X7-2t | H68: B1JBXQ
A69: 21 | C69: =VLOOKUP(D:D,[1]飞利浦系统探头信息!A:B,2,0) -> CX50 | D69: SG91905021 | F69: 6 | G69: C5-1 | H69: B3H1BL
C70: =VLOOKUP(D:D,[1]飞利浦系统探头信息!A:B,2,0) -> #N/A | G70: S8-3 | H70: B3FK6D
C71: =VLOOKUP(D:D,[1]飞利浦系统探头信息!A:B,2,0) -> #N/A | G71: S5-1 | H71: B3H9CT
C72: =VLOOKUP(D:D,[1]飞利浦系统探头信息!A:B,2,0) -> #N/A | G72: L12-3 | H72: FO7VHR
G73: X8-2t | H73: F0PC9K
G74: X8-2t | H74: F0PBYQ
A75: 22 | C75: =VLOOKUP(D:D,[1]飞利浦系统探头信息!A:B,2,0) -> CX50 | D75: SG91905044 | F75: 4 | G75: C5-1 | H75: B3G491
C76: =VLOOKUP(D:D,[1]飞利浦系统探头信息!A:B,2,0) -> #N/A | G76: S5-1 | H76: B3H9JZ
C77: =VLOOKUP(D:D,[1]飞利浦系统探头信息!A:B,2,0) -> #N/A | G77: L12-3 | H77: B3DQNQ
G78: S7-3t | H78: B3DV86
A79: 23 | C79: =VLOOKUP(D:D,[1]飞利浦系统探头信息!A:B,2,0) -> EPIQ CVx | D79: USN21B0771 | F79: 6 | G79: X5-1 | H79: F03PJ7
C80: =VLOOKUP(D:D,[1]飞利浦系统探头信息!A:B,2,0) -> #N/A | G80: S9-2 | H80: F0JYW0
C81: =VLOOKUP(D:D,[1]飞利浦系统探头信息!A:B,2,0) -> #N/A | G81: L12-3 | H81: F0GL2W
C82: =VLOOKUP(D:D,[1]飞利浦系统探头信息!A:B,2,0) -> #N/A | G82: C5-1 | H82: F045FB
C83: =VLOOKUP(D:D,[1]飞利浦系统探头信息!A:B,2,0) -> #N/A | G83: S5-1 | H83: F0RKRY
C84: =VLOOKUP(D:D,[1]飞利浦系统探头信息!A:B,2,0) -> #N/A | G84: XL14-3 | H84: F01KYX
A85: 24 | C85: =VLOOKUP(D:D,[1]飞利浦系统探头信息!A:B,2,0) -> EPIQ 7C | D85: US716B0671 | F85: 6 | G85: X5-1 | H85: B1TNL6
C86: =VLOOKUP(D:D,[1]飞利浦系统探头信息!A:B,2,0) -> #N/A | G86: L12-3 | H86: B1R0G9
C87: =VLOOKUP(D:D,[1]飞利浦系统探头信息!A:B,2,0) -> #N/A | G87: C5-1 | H87: B1QWV2
C88: =VLOOKUP(D:D,[1]飞利浦系统探头信息!A:B,2,0) -> #N/A | G88: S5-1 | H88: B1Q68D
C89: =VLOOKUP(D:D,[1]飞利浦系统探头信息!A:B,2,0) -> #N/A | G89: S7-3t | H89: B1TC8J
C90: =VLOOKUP(D:D,[1]飞利浦系统探头信息!A:B,2,0) -> #N/A | G90: S8-3 | H90: B1N07Z
A91: 25 | C91: =VLOOKUP(D:D,[1]飞利浦系统探头信息!A:B,2,0) -> EPIQ CVx | D91: USD20B0024 | F91: 9 | G91: L12-3 | H91: F00P2J
C92: =VLOOKUP(D:D,[1]飞利浦系统探头信息!A:B,2,0) -> #N/A | G92: S8-3t | H92: F00T6X
C93: =VLOOKUP(D:D,[1]飞利浦系统探头信息!A:B,2,0) -> #N/A | G93: L12-3 | H93: F00NGV
C94: =VLOOKUP(D:D,[1]飞利浦系统探头信息!A:B,2,0) -> #N/A | G94: eL18-4 | H94: F00P7X
C95: =VLOOKUP(D:D,[1]飞利浦系统探头信息!A:B,2,0) -> #N/A | G95: C5-1 | H95: F00Q7T
C96: =VLOOKUP(D:D,[1]飞利浦系统探头信息!A:B,2,0) -> #N/A | G96: S5-1 | H96: F00R42
C97: =VLOOKUP(D:D,[1]飞利浦系统探头信息!A:B,2,0) -> #N/A | G97: S9-2 | H97: F00J69
C98: =VLOOKUP(D:D,[1]飞利浦系统探头信息!A:B,2,0) -> #N/A | G98: XL14-3 | H98: F00DZM
C99: =VLOOKUP(D:D,[1]飞利浦系统探头信息!A:B,2,0) -> #N/A | G99: X5-1 | H99: F00MKQ
A100: 26 | C100: =VLOOKUP(D:D,[1]飞利浦系统探头信息!A:B,2,0) -> EPIQ CVx | D100: US423B1326 | F100: 5 | G100: X5-1 | H100: F097HL
...
