Workbook

Sheet 探头及主机
A1: 飞利浦彩超维保清单（本表格须上传excle版本及盖章后扫描件）
A2: 序号 | B2: 设备名称 | C2: 主机型号 | D2: 主机序列号 | E2: 品牌 | F2: 探头数量 | G2: 探头型号 | H2: 探头序列号 | I2: 维保范围适用维保范围 | J2: 是否原厂维保（注明原厂或第三方） | K2: 自2023年1月1日以来类似本服务项目在全国综合医院排名前1-100的用户名单数量（本表格填写数量），须提供相关合同复印件作为佐证材料 | L2: 维保费用（万元/年）
A3: 1 | B3: 彩超 | C3: =VLOOKUP(D:D,[1]飞利浦系统探头信息!A:B,2,0) -> EPIQ 5 | D3: US716C0683 | E3: 飞利浦 | F3: 4 | G3: L12-5 | H3: F0PYYX
G4: C5-1 | H4: F078JX
G5: X7-2t | H5: B1JBXQ
G6: X7-2t | H6: F04DMJ
A7: 2 | C7: =VLOOKUP(D:D,[1]飞利浦系统探头信息!A:B,2,0) -> EPIQ CVx | D7: US423B1325 | F7: 4 | G7: S5-1 | H7: F0B84Q
G8: L12-3ERGO | H8: F0B1NT
G9: eL18-4 | H9: F08VTL
G10: C5-1 | H10: F0BC8C
A11: 3 | C11: =VLOOKUP(D:D,[1]飞利浦系统探头信息!A:B,2,0) -> EPIQ 5C | D11: US421C0441 | F11: 2 | G11: L12-3 | H11: F0FGWG
G12: S5-1 | H12: F01TYG
A13: 4 | C13: =VLOOKUP(D:D,[1]飞利浦系统探头信息!A:B,2,0) -> EPIQ 5C | D13: US421C0440 | F13: 2 | G13: S5-1 | H13: F01TTG
C14: =VLOOKUP(D:D,[1]飞利浦系统探头信息!A:B,2,0) -> #N/A | G14: L12-3 | H14: F0CJ3X
A15: 5 | C15: =VLOOKUP(D:D,[1]飞利浦系统探头信息!A:B,2,0) -> EPIQ 5 | D15: USN19C0231 | F15: 3 | G15: L12-5 | H15: F0FNV6
C16: =VLOOKUP(D:D,[1]飞利浦系统探头信息!A:B,2,0) -> #N/A | G16: C10-3V | H16: B3GNY6
C17: =VLOOKUP(D:D,[1]飞利浦系统探头信息!A:B,2,0) -> #N/A | G17: C5-1 | H17: F07RL5
A18: 6 | C18: =VLOOKUP(D:D,[1]飞利浦系统探头信息!A:B,2,0) -> EPIQ 5 | D18: USN19C0232 | F18: 2 | G18: C5-1 | H18: B3G3ZY
C19: =VLOOKUP(D:D,[1]飞利浦系统探头信息!A:B,2,0) -> #N/A | G19: L12-5 | H19: F05BW2
A20: 7 | C20: =VLOOKUP(D:D,[1]飞利浦系统探头信息!A:B,2,0) -> EPIQ 5 | D20: US421C0435 | F20: 3 | G20: L12-5 | H20: F01V20
C21: =VLOOKUP(D:D,[1]飞利浦系统探头信息!A:B,2,0) -> #N/A | G21: C5-1 | H21: F0Q3MF
C22: =VLOOKUP(D:D,[1]飞利浦系统探头信息!A:B,2,0) -> #N/A | G22: C10-3V | H22: F01V1C
A23: 8 | C23: =VLOOKUP(D:D,[1]飞利浦系统探头信息!A:B,2,0) -> Affiniti 50 | D23: USO19D0827 | F23: 2 | G23: C6-2 | H23: F0NGN1
C24: =VLOOKUP(D:D,[1]飞利浦系统探头信息!A:B,2,0) -> #N/A | G24: L12-5 50 | H24: B0BNC5
A25: 9 | C25: =VLOOKUP(D:D,[1]飞利浦系统探头信息!A:B,2,0) -> EPIQ 5 | D25: US421C0442 | F25: 2 | G25: C5-1 | H25: F0PGYK
C26: =VLOOKUP(D:D,[1]飞利浦系统探头信息!A:B,2,0) -> #N/A | G26: eL18-4 | H26: F0JNG9
A27: 10 | C27: =VLOOKUP(D:D,[1]飞利浦系统探头信息!A:B,2,0) -> EPIQ 5 | D27: USO18C0121 | F27: 2 | G27: L12-5 | H27: F07NM6
C28: =VLOOKUP(D:D,[1]飞利浦系统探头信息!A:B,2,0) -> #N/A | G28: C5-1 | H28: F055Y1
A29: 11 | C29: =VLOOKUP(D:D,[1]飞利浦系统探头信息!A:B,2,0) -> EPIQ 5 | D29: US716C0682 | F29: 3 | G29: L12-5 | H29: B40VT7
C30: =VLOOKUP(D:D,[1]飞利浦系统探头信息!A:B,2,0) -> #N/A | G30: C5-1 | H30: B2QGVY
C31: =VLOOKUP(D:D,[1]飞利浦系统探头信息!A:B,2,0) -> #N/A | G31: C10-3V | H31: F0HYVQ
A32: 12 | C32: =VLOOKUP(D:D,[1]飞利浦系统探头信息!A:B,2,0) -> Affiniti 50 | D32: USO19D0825 | F32: 2 | G32: L12-4 | H32: B3DVRC
C33: =VLOOKUP(D:D,[1]飞利浦系统探头信息!A:B,2,0) -> #N/A | G33: S4-2 | H33: B39QWN
A34: 13 | C34: =VLOOKUP(D:D,[1]飞利浦系统探头信息!A:B,2,0) -> Affiniti 70C | D34: SZO22F0435 | F34: 2 | G34: L12-3 | H34: F0763Z
C35: =VLOOKUP(D:D,[1]飞利浦系统探头信息!A:B,2,0) -> #N/A | G35: S5-1 | H35: F0KT1D
A36: 14 | C36: =VLOOKUP(D:D,[1]飞利浦系统探头信息!A:B,2,0) -> Affiniti 50 | D36: USO19D0826 | F36: 2 | G36: S4-2 | H36: B39RFL
C37: =VLOOKUP(D:D,[1]飞利浦系统探头信息!A:B,2,0) -> #N/A | G37: L12-4 | H37: B3DVYK
A38: 15 | C38: =VLOOKUP(D:D,[1]飞利浦系统探头信息!A:B,2,0) -> Affiniti 50 | D38: USO19D0938 | F38: 3 | G38: C6-2 | H38: F0QJMQ
C39: =VLOOKUP(D:D,[1]飞利浦系统探头信息!A:B,2,0) -> #N/A | G39: L12-5 | H39: F09L9H
C40: =VLOOKUP(D:D,[1]飞利浦系统探头信息!A:B,2,0) -> #N/A | G40: C10-3V | H40: B3G16Y
...
